BEGIN:VCALENDAR
VERSION:2.0
PRODID:-//wp-events-plugin.com//7.2.3.1//EN
TZID:Europe/Paris
X-WR-TIMEZONE:Europe/Paris
BEGIN:VEVENT
UID:189@transitions-vlb.fr
DTSTART;TZID=Europe/Paris:20250311T184500
DTEND;TZID=Europe/Paris:20250311T220000
DTSTAMP:20250214T084914Z
URL:https://transitions-vlb.fr/evenements/atelier_inventons_nos_vies_bas_c
 arbone/
SUMMARY:Atelier “Inventons nos vies bas carbone”
DESCRIPTION:\n\n\n\n\nInventons nos vies bas carbone : un atelier brûlant 
 d’actualité\, participatif et formateur\n\nNous devons réduire notre 
 empreinte carbone à grande vitesse. Mais comment y arriver ? L’atelier 
 Inventons nos vies bas carbone propose des réponses à partir d’un disp
 ositif original\, intuitif et low-tech.\n\nCe temps fort en groupe nous am
 ène à construire des solutions et des imaginaires positifs. Les cartes\,
  intuitives et visuelles\, permettent en peu de temps de découvrir les or
 dres de grandeur liés aux réalités du quotidien (alimentation\, transpo
 rt\, logement…).\n\nL'atelier nous montre qu’on peut vivre mieux en r
 épondant à l’urgence climatique. Il nous aide à comprendre pour agir 
 efficacement et nous amène à changer de regard sur ce qui compte vraimen
 t.\n\nL'atelier se déroule en deux temps. Le premier pour prendre conscie
 nce de la situation climatique actuelle. Le deuxième pour inventer des vi
 es sobres et heureuses\, compatibles avec les enjeux environnementaux visa
 nt la neutralité carbone.\n\n___\n\nAnimatrice : Elisabeth da Cruz\n\n\nI
 nscription : https://www.billetweb.fr/atelier-a-verrieres-le-buisson-91370
 -11-mars\n\n
CATEGORIES:Nos évènements
LOCATION:Maison de l'arboretum\, Esplanade Thomas Joly\, Verrières-Le-Buis
 son\, 91370\, France
X-APPLE-STRUCTURED-LOCATION;VALUE=URI;X-ADDRESS=Esplanade Thomas Joly\, Ver
 rières-Le-Buisson\, 91370\, France;X-APPLE-RADIUS=100;X-TITLE=Maison de l
 'arboretum:geo:0,0
END:VEVENT
BEGIN:VTIMEZONE
TZID:Europe/Paris
X-LIC-LOCATION:Europe/Paris
BEGIN:STANDARD
DTSTART:20241027T020000
TZOFFSETFROM:+0200
TZOFFSETTO:+0100
TZNAME:CET
END:STANDARD
END:VTIMEZONE
END:VCALENDAR