BEGIN:VCALENDAR
VERSION:2.0
PRODID:-//wp-events-plugin.com//7.2.3.1//EN
TZID:Europe/Paris
X-WR-TIMEZONE:Europe/Paris
BEGIN:VEVENT
UID:199@transitions-vlb.fr
DTSTART;TZID=Europe/Paris:20250524T140000
DTEND;TZID=Europe/Paris:20250524T180000
DTSTAMP:20250117T105824Z
URL:https://transitions-vlb.fr/evenements/cafe-velo/
SUMMARY:Café vélo
DESCRIPTION:A l'occasion de "Mai à vélo"\, l'association Transitions vous
  invite à un café vélo sur la place Thomas Joly (devant l'Espace Bernar
 d Mantienne).\n\nAu programme :\n\n 	sensibilisation au code de la route a
 dapté aux cyclistes (les dangers\, comment les prévenir\, mais aussi que
 lques rappels pour les moins aguerris)\,\n 	discussion sur les aménagemen
 ts cyclables à venir à proximité\n 	consultation de livres\,\n 	échang
 es sur les matériels indispensables pour rouler confortablement  toute l
 'année\, etc.\n\n&nbsp\;\n\nBien évidemment\, nous proposerons aussi un 
 atelier de réparation de vélo.
CATEGORIES:Nos évènements
LOCATION:Espace Bernard Mantienne\, 3 Voie de l'Aulne\, Verrières-le-Buiss
 on\, 91370 \, France
X-APPLE-STRUCTURED-LOCATION;VALUE=URI;X-ADDRESS=3 Voie de l'Aulne\, Verriè
 res-le-Buisson\, 91370 \, France;X-APPLE-RADIUS=100;X-TITLE=Espace Bernard
  Mantienne:geo:0,0
END:VEVENT
BEGIN:VTIMEZONE
TZID:Europe/Paris
X-LIC-LOCATION:Europe/Paris
BEGIN:DAYLIGHT
DTSTART:20250330T030000
TZOFFSETFROM:+0100
TZOFFSETTO:+0200
TZNAME:CEST
END:DAYLIGHT
END:VTIMEZONE
END:VCALENDAR