BEGIN:VCALENDAR
VERSION:2.0
PRODID:-//wp-events-plugin.com//7.2.3.1//EN
TZID:Europe/Paris
X-WR-TIMEZONE:Europe/Paris
BEGIN:VEVENT
UID:220@transitions-vlb.fr
DTSTART;TZID=Europe/Paris:20250930T141500
DTEND;TZID=Europe/Paris:20250930T154500
DTSTAMP:20250927T124245Z
URL:https://transitions-vlb.fr/evenements/conference-utl-catastrophes-clim
 atiques-tous-victimes-et-tous-coupables/
SUMMARY:Conférence UTL – Catastrophes climatiques\, tous victimes et tou
 s coupables ?
DESCRIPTION:Nous aimons\, nous encourageons : une conférence intéressante
  de l'Université du Temps Libre : Laurence EYMARD anime une conférence G
 RATUITE sur le sujet du climat.\n\nhttps://www.utl-essonne.org/conferences
 /catastrophes-climatiques-tous-victimes-et-tous-coupables/?origine=303\n\n
 Inondations dévastatrices\, sécheresses historiques\, incendies incontr
 ôlables\, éboulements inédits en montagne\, tempêtes renforcées… Le
  réchauffement climatique est la cause de tous ces événements extrêmes
 \, constatés sur toute la planète et qui vont s’amplifier dans les pro
 chaines décennies. Nous sommes tous responsables de ce réchauffement cli
 matique\, par nos émissions de gaz à effet de serre. Agir collectivement
 \, mais aussi individuellement\, est indispensable pour limiter le réchau
 ffement global et ses conséquences dramatiques pour les sociétés humain
 es.\n\n
CATEGORIES:Evènements externes
LOCATION:Espace Bernard Mantienne\, 3 Voie de l'Aulne\, Verrières-le-Buiss
 on\, 91370 \, France
X-APPLE-STRUCTURED-LOCATION;VALUE=URI;X-ADDRESS=3 Voie de l'Aulne\, Verriè
 res-le-Buisson\, 91370 \, France;X-APPLE-RADIUS=100;X-TITLE=Espace Bernard
  Mantienne:geo:0,0
END:VEVENT
BEGIN:VTIMEZONE
TZID:Europe/Paris
X-LIC-LOCATION:Europe/Paris
BEGIN:DAYLIGHT
DTSTART:20250330T030000
TZOFFSETFROM:+0100
TZOFFSETTO:+0200
TZNAME:CEST
END:DAYLIGHT
END:VTIMEZONE
END:VCALENDAR