BEGIN:VCALENDAR
VERSION:2.0
PRODID:-//wp-events-plugin.com//7.2.3.1//EN
TZID:Europe/Paris
X-WR-TIMEZONE:Europe/Paris
BEGIN:VEVENT
UID:200@transitions-vlb.fr
DTSTART;TZID=Europe/Paris:20250202T101500
DTEND;TZID=Europe/Paris:20250202T120000
DTSTAMP:20250201T213027Z
URL:https://transitions-vlb.fr/evenements/projets-nourriciers-visite-de-si
 te-1/
SUMMARY:Projets nourriciers /Visite de site 1
DESCRIPTION:\n\n\n\n\n\n\n\n\n\nNous proposons une série de visite de proj
 ets nourriciers / agricoles chez nos voisins pour nourrir la réflexion su
 r le devenir des coteaux d’Amblainvilliers à Verrieres-le-Buisson.\n\n\
 nNous sommes accueillis ce dimanche 2 février à 10h15 par notre voisin I
 gny vallée comestible.\n\n\n\n\nAu programme : visite du lieu où se s’
 entremêlent fruitiers\, ruchers et maraîchage et présentation du foncti
 onnement de ce projet collectif.\nInscription indispensable en MP ou par m
 ail car le nombre est limité à 2x15 personnes !\ntransitions.vlb@ecomail
 .fr\n\n\nCoteaux d’Amblainvilliers\nSemons notre avenir!\n\n\n\n\n\n
CATEGORIES:Nos évènements
END:VEVENT
BEGIN:VTIMEZONE
TZID:Europe/Paris
X-LIC-LOCATION:Europe/Paris
BEGIN:STANDARD
DTSTART:20241027T020000
TZOFFSETFROM:+0200
TZOFFSETTO:+0100
TZNAME:CET
END:STANDARD
END:VTIMEZONE
END:VCALENDAR