BEGIN:VCALENDAR
VERSION:2.0
PRODID:-//wp-events-plugin.com//7.2.3.1//EN
TZID:Europe/Paris
X-WR-TIMEZONE:Europe/Paris
BEGIN:VEVENT
UID:196@transitions-vlb.fr
DTSTART;TZID=Europe/Paris:20250125T143000
DTEND;TZID=Europe/Paris:20250125T180000
DTSTAMP:20250110T095334Z
URL:https://transitions-vlb.fr/evenements/repair-cafe/
SUMMARY:Repair Café Samedi au club ABC
DESCRIPTION:Jeter\, NON ! \nRéparer\, OUI !
CATEGORIES:Evènements externes
LOCATION:\, \, 
X-APPLE-STRUCTURED-LOCATION;VALUE=URI;X-ADDRESS=\, ;X-APPLE-RADIUS=100;X-TI
 TLE=:geo:0,0
END:VEVENT
BEGIN:VTIMEZONE
TZID:Europe/Paris
X-LIC-LOCATION:Europe/Paris
BEGIN:STANDARD
DTSTART:20241027T020000
TZOFFSETFROM:+0200
TZOFFSETTO:+0100
TZNAME:CET
END:STANDARD
END:VTIMEZONE
END:VCALENDAR