BEGIN:VCALENDAR
VERSION:2.0
PRODID:-//wp-events-plugin.com//7.2.3.1//EN
TZID:Europe/Paris
X-WR-TIMEZONE:Europe/Paris
BEGIN:VEVENT
UID:203@transitions-vlb.fr
DTSTART;TZID=Europe/Paris:20250329T140000
DTEND;TZID=Europe/Paris:20250329T180000
DTSTAMP:20250322T201447Z
URL:https://transitions-vlb.fr/evenements/troc-aux-plantes/
SUMMARY:Troc aux plantes
DESCRIPTION:La Coccinelle verte organise ce samedi un troc aux plantes. Le 
 principe est simple : vous venez avec des plantes qui se sont multipliées
  chez vous ou dont vous voulez vous débarrasser et vous repartez avec d'a
 utres plantes.\n\nRassurez-vous\, si vous n'avez pas encore de plantes à 
 donner\, vous pourrez malgré tout en récupérer.\n\nTransitions sera ég
 alement là pour échanger avec vous autour de son projet d'agriculture lo
 cale.
CATEGORIES:Evènements externes,Nos évènements
LOCATION:Maison de l&rsquo\;arboretum Esplanade Thomas Joly 91370 Verrière
 s le Buisson\, 3 Voie de l'Aulne\, 91370 Verrières-le-Buisson\, Verrière
 s le Buisson\, Essonne\, 91370\, ile de France\, France
X-APPLE-STRUCTURED-LOCATION;VALUE=URI;X-ADDRESS=3 Voie de l'Aulne\, 91370 V
 errières-le-Buisson\, Verrières le Buisson\, Essonne\, 91370\, ile de Fr
 ance\, France;X-APPLE-RADIUS=100;X-TITLE=Maison de l’arboretum Esplanade
  Thomas Joly 91370 Verrières le Buisson:geo:0,0
END:VEVENT
BEGIN:VTIMEZONE
TZID:Europe/Paris
X-LIC-LOCATION:Europe/Paris
BEGIN:STANDARD
DTSTART:20241027T020000
TZOFFSETFROM:+0200
TZOFFSETTO:+0100
TZNAME:CET
END:STANDARD
END:VTIMEZONE
END:VCALENDAR